BEGIN:VCALENDAR
VERSION:2.0
BEGIN:VEVENT
UID:A5415DBE-7BD7-438F-95B5-104EEAC6FE1E
DTSTART:20260430T110000Z
DTEND:20260430T190000Z
SUMMARY:Primark North East Mall Store Grand Opening
DESCRIPTION:Be a part of the excitement as Primark\, a leading internationa
 l fashion retailer\, celebrates its fi fth Texas  opening at  North East
   Mall ! Shoppers can experience the grand opening weekend in style\, with
  fun for the whole family.  The  grand opening  will kick off  with a part
 y! Shoppers can enjoy live music from a local DJ\, exciting giveaways\, an
 d delicious local treats for the first people in line.  The new store open
 s Thursday\,  April 30 th at  11am\,  but celebrations continue throughout
  the weekend .   Don’t   miss out on  this exciting event – see you there!
 \nPrimark North East Mall\n1101 Melbourne Rd\nHurst\, TX 76053 United Stat
 es\n
LOCATION:1101 Melbourne Rd\, Hurst\, TX 76053
URL:http://fortworth.bubblelife.com/community/primark_1/library/3554851172/
 key/3511770181/Primark_North_East_Mall_Store_Grand_Opening
CREATED:20260406T180317Z
LAST-MODIFIED:20260406T180317Z
DTSTAMP:20260424T015958Z
CLASS:PUBLIC
STATUS:CONFIRMED
TRANSP:TRANSPARENT
SEQUENCE:1
END:VEVENT
END:VCALENDAR
